BEGIN:VCALENDAR
VERSION:2.0
PRODID:-//ZAG//
BEGIN:VEVENT
SUMMARY:Bieranstich
DTSTART:20260425T150000
DESCRIPTION:
LOCATION:Sulzbach Ibelo Platz
END:VEVENT
BEGIN:VEVENT
SUMMARY:Marktgemeinderat
DTSTART:20260507T193000
DESCRIPTION:Offizielle Sitzung
LOCATION:Saal der Braunwarthsmühle
END:VEVENT
BEGIN:VEVENT
SUMMARY:Haupt- und Finanzausschuss
DTSTART:20260512T193000
DESCRIPTION:Offizielle Sitzung
LOCATION:Haus der Begegnung (Spessartstr. 4)
END:VEVENT
BEGIN:VEVENT
SUMMARY:Grundstücks-\, Bau- und Umweltausschuss
DTSTART:20260513T193000
DESCRIPTION:Offizielle Sitzung
LOCATION:Haus der Begegnung (Spessartstr. 4)
END:VEVENT
BEGIN:VEVENT
SUMMARY:Marktgemeinderat
DTSTART:20260521T193000
DESCRIPTION:Offizielle Sitzung
LOCATION:Saal der Braunwarthsmühle
END:VEVENT
BEGIN:VEVENT
SUMMARY:Jugend-\, Familien- u. Seniorenausschuss
DTSTART:20260609T193000
DESCRIPTION:Offizielle Sitzung
LOCATION:Haus der Begegnung (Spessartstr. 4)
END:VEVENT
BEGIN:VEVENT
SUMMARY:Grundstücks-\, Bau- und Umweltausschuss
DTSTART:20260611T193000
DESCRIPTION:Offizielle Sitzung
LOCATION:Haus der Begegnung (Spessartstr. 4)
END:VEVENT
BEGIN:VEVENT
SUMMARY:Marktgemeinderat
DTSTART:20260625T180000
DESCRIPTION:Offizielle Sitzung
LOCATION:Saal der Braunwarthsmühle
END:VEVENT
BEGIN:VEVENT
SUMMARY:Verkehrsplanungsausschuss
DTSTART:20260706T193000
DESCRIPTION:Offizielle Sitzung
LOCATION:Haus der Begegnung (Spessartstr. 4)
END:VEVENT
BEGIN:VEVENT
SUMMARY:Haupt- und Finanzausschuss
DTSTART:20260714T193000
DESCRIPTION:Offizielle Sitzung
LOCATION:Haus der Begegnung (Spessartstr. 4)
END:VEVENT
BEGIN:VEVENT
SUMMARY:Grundstücks-\, Bau- und Umweltausschuss
DTSTART:20260716T193000
DESCRIPTION:Offizielle Sitzung
LOCATION:Haus der Begegnung (Spessartstr. 4)
END:VEVENT
BEGIN:VEVENT
SUMMARY:Marktgemeinderat
DTSTART:20260730T193000
DESCRIPTION:Offizielle Sitzung
LOCATION:Saal der Braunwarthsmühle
END:VEVENT
BEGIN:VEVENT
SUMMARY:Haupt- und Finanzausschuss
DTSTART:20260908T193000
DESCRIPTION:Offizielle Sitzung
LOCATION:Haus der Begegnung (Spessartstr. 4)
END:VEVENT
BEGIN:VEVENT
SUMMARY:Grundstücks-\, Bau- und Umweltausschuss
DTSTART:20260910T193000
DESCRIPTION:Offizielle Sitzung
LOCATION:Haus der Begegnung (Spessartstr. 4)
END:VEVENT
BEGIN:VEVENT
SUMMARY:Marktgemeinderat
DTSTART:20261001T193000
DESCRIPTION:Offizielle Sitzung
LOCATION:Saal der Braunwarthsmühle
END:VEVENT
BEGIN:VEVENT
SUMMARY:Jugend-\, Familien- u. Seniorenausschuss
DTSTART:20261013T193000
DESCRIPTION:Offizielle Sitzung
LOCATION:Haus der Begegnung (Spessartstr. 4)
END:VEVENT
BEGIN:VEVENT
SUMMARY:Grundstücks-\, Bau- und Umweltausschuss
DTSTART:20261015T193000
DESCRIPTION:Offizielle Sitzung
LOCATION:Haus der Begegnung (Spessartstr. 4)
END:VEVENT
BEGIN:VEVENT
SUMMARY:Verkehrsplanungsausschuss
DTSTART:20261019T193000
DESCRIPTION:Offizielle Sitzung
LOCATION:Haus der Begegnung (Spessartstr. 4)
END:VEVENT
BEGIN:VEVENT
SUMMARY:Kultur- und Heimatpflegeausschuss
DTSTART:20261020T193000
DESCRIPTION:Offizielle Sitzung
LOCATION:Haus der Begegnung (Spessartstr. 4)
END:VEVENT
BEGIN:VEVENT
SUMMARY:Marktgemeinderat
DTSTART:20261029T193000
DESCRIPTION:Offizielle Sitzung
LOCATION:Saal der Braunwarthsmühle
END:VEVENT
BEGIN:VEVENT
SUMMARY:Haupt- und Finanzausschuss
DTSTART:20261110T193000
DESCRIPTION:Offizielle Sitzung
LOCATION:Haus der Begegnung (Spessartstr. 4)
END:VEVENT
BEGIN:VEVENT
SUMMARY:Grundstücks-\, Bau- und Umweltausschuss
DTSTART:20261112T193000
DESCRIPTION:Offizielle Sitzung
LOCATION:Haus der Begegnung (Spessartstr. 4)
END:VEVENT
BEGIN:VEVENT
SUMMARY:Marktgemeinderat
DTSTART:20261126T193000
DESCRIPTION:Offizielle Sitzung
LOCATION:Saal der Braunwarthsmühle
END:VEVENT
BEGIN:VEVENT
SUMMARY:Haupt- und Finanzausschuss
DTSTART:20261201T193000
DESCRIPTION:Offizielle Sitzung
LOCATION:Haus der Begegnung (Spessartstr. 4)
END:VEVENT
BEGIN:VEVENT
SUMMARY:Grundstücks-\, Bau- und Umweltausschuss
DTSTART:20261203T193000
DESCRIPTION:Offizielle Sitzung
LOCATION:Haus der Begegnung (Spessartstr. 4)
END:VEVENT
BEGIN:VEVENT
SUMMARY:Marktgemeinderat
DTSTART:20261209T193000
DESCRIPTION:Offizielle Sitzung
LOCATION:Saal der Braunwarthsmühle
END:VEVENT
END:VCALENDAR
